1.53843766628686329
0
0
-1.53843766628686329
357216.80801693198736757
4788939.37638116721063852
