0.0002777778
0.0000000000
0.0000000000
-0.0002777778
19.0000000000
43.0000000000
