BYTEORDER      I
LAYOUT         BIL
NROWS          3601
NCOLS          3601
NBANDS         1
NBITS          16
BANDROWBYTES   7202
TOTALROWBYTES  7202
PIXELTYPE      SIGNEDINT
ULXMAP         19
ULYMAP         43
XDIM           0.000277777777777778
YDIM           0.000277777777777778
NODATA         -32767
