0.072175568377650
0
0
-0.058532930101297
406356.999479388352484
154860.001942871313076
